BEGIN:VCALENDAR
VERSION:2.0
PRODID:-// - ECPv6.15.15//NONSGML v1.0//EN
CALSCALE:GREGORIAN
METHOD:PUBLISH
X-ORIGINAL-URL:https://isdm.umontpellier.fr
X-WR-CALDESC:Évènements pour 
REFRESH-INTERVAL;VALUE=DURATION:PT1H
X-Robots-Tag:noindex
X-PUBLISHED-TTL:PT1H
BEGIN:VTIMEZONE
TZID:Europe/Paris
BEGIN:DAYLIGHT
TZOFFSETFROM:+0100
TZOFFSETTO:+0200
TZNAME:CEST
DTSTART:20250330T010000
END:DAYLIGHT
BEGIN:STANDARD
TZOFFSETFROM:+0200
TZOFFSETTO:+0100
TZNAME:CET
DTSTART:20251026T010000
END:STANDARD
BEGIN:DAYLIGHT
TZOFFSETFROM:+0100
TZOFFSETTO:+0200
TZNAME:CEST
DTSTART:20260329T010000
END:DAYLIGHT
BEGIN:STANDARD
TZOFFSETFROM:+0200
TZOFFSETTO:+0100
TZNAME:CET
DTSTART:20261025T010000
END:STANDARD
BEGIN:DAYLIGHT
TZOFFSETFROM:+0100
TZOFFSETTO:+0200
TZNAME:CEST
DTSTART:20270328T010000
END:DAYLIGHT
BEGIN:STANDARD
TZOFFSETFROM:+0200
TZOFFSETTO:+0100
TZNAME:CET
DTSTART:20271031T010000
END:STANDARD
END:VTIMEZONE
BEGIN:VEVENT
DTSTART;VALUE=DATE:20260606
DTEND;VALUE=DATE:20260607
DTSTAMP:20260424T103417
CREATED:20260420T062508Z
LAST-MODIFIED:20260420T062508Z
UID:8626-1780704000-1780790399@isdm.umontpellier.fr
SUMMARY:Polycloud
DESCRIPTION:Campus Triolet de l’Université de Montpellier\, Polytech Montpellier\nLes étudiants DO4 Polytech Montpellier \nConférence tech autour du Cloud et du DevOps organisée par des étudiants !\nPolycloud est une journée de conférences gratuites qui tiendra sa cinquième édition le Samedi 6 juin 2026 à Polytech Montpellier. Le but est de faire découvrir le monde du cloud et du DevOps\, au travers de conférences. Grâce à l’intervention d’experts une multitude de sujets seront abordés tout au long de la journée: Dev\, Cloud\, IA\, Cybersécurité…\nContrairement aux conférences plus traditionnelles\, la Polycloud cherche à créer un pont entre le monde étudiant et le milieu professionnel. Et la formule séduit chaque année\, ils sont de plus en plus nombreux à faire le déplacement.\nL’entrée est gratuite\, repas inclus. Aucune raison de ne pas venir ! \n            Inscription\n                        En savoir plus
URL:https://isdm.umontpellier.fr/event/polycloud/
CATEGORIES:Journée
ATTACH;FMTTYPE=image/png:https://isdm.umontpellier.fr/wp-content/uploads/2025/05/logo-polycloud-8sQR9y.png
END:VEVENT
END:VCALENDAR