BEGIN:VCALENDAR
VERSION:2.0
PRODID:-// - ECPv6.15.15//NONSGML v1.0//EN
CALSCALE:GREGORIAN
METHOD:PUBLISH
X-ORIGINAL-URL:https://isdm.umontpellier.fr
X-WR-CALDESC:Évènements pour 
REFRESH-INTERVAL;VALUE=DURATION:PT1H
X-Robots-Tag:noindex
X-PUBLISHED-TTL:PT1H
BEGIN:VTIMEZONE
TZID:Europe/Paris
BEGIN:DAYLIGHT
TZOFFSETFROM:+0100
TZOFFSETTO:+0200
TZNAME:CEST
DTSTART:20250330T010000
END:DAYLIGHT
BEGIN:STANDARD
TZOFFSETFROM:+0200
TZOFFSETTO:+0100
TZNAME:CET
DTSTART:20251026T010000
END:STANDARD
BEGIN:DAYLIGHT
TZOFFSETFROM:+0100
TZOFFSETTO:+0200
TZNAME:CEST
DTSTART:20260329T010000
END:DAYLIGHT
BEGIN:STANDARD
TZOFFSETFROM:+0200
TZOFFSETTO:+0100
TZNAME:CET
DTSTART:20261025T010000
END:STANDARD
BEGIN:DAYLIGHT
TZOFFSETFROM:+0100
TZOFFSETTO:+0200
TZNAME:CEST
DTSTART:20270328T010000
END:DAYLIGHT
BEGIN:STANDARD
TZOFFSETFROM:+0200
TZOFFSETTO:+0100
TZNAME:CET
DTSTART:20271031T010000
END:STANDARD
END:VTIMEZONE
BEGIN:VEVENT
DTSTART;TZID=Europe/Paris:20260521T173000
DTEND;TZID=Europe/Paris:20260521T190000
DTSTAMP:20260424T133807
CREATED:20260420T062504Z
LAST-MODIFIED:20260420T062504Z
UID:10000344-1779384600-1779390000@isdm.umontpellier.fr
SUMMARY:Construire autrement avec l’IA
DESCRIPTION:Atelier B\, 61 rue Jacques Fouroux\, Montpellier\nFFB Occitanie \nDans le cadre de la Semaine de l’IA pour tous\, l’Atelier B (tiers lieu d’innovation de la FFB Occitanie) organise cet événement pour explorer comment optimiser l’IA pour vos activités. Un évènement qui vous invite à découvrir comment l’IA transforme concrètement les pratiques des professionnels du bâtiment. \nAu programme : \n• Découverte des applications de l’IA dans la construction (optimisation des chantiers\, économies d’énergie\, sécurité\, etc.).\n• Démonstrations concrètes pour rendre l’IA accessible\, même sans expertise technique.\n• Échanges avec des professionnels pour comprendre les enjeux et les opportunités pour le secteur. \nInscrivez-vous dès maintenant pour explorer les opportunités de l’IA dans le secteur du bâtiment! \n            En savoir plus
URL:https://isdm.umontpellier.fr/event/construire-autrement-avec-lia/
CATEGORIES:Afterwork
ATTACH;FMTTYPE=image/jpeg:https://isdm.umontpellier.fr/wp-content/uploads/2026/04/FFB-21-mai.jpg
END:VEVENT
END:VCALENDAR