BEGIN:VCALENDAR
VERSION:2.0
PRODID:-// - ECPv6.15.15//NONSGML v1.0//EN
CALSCALE:GREGORIAN
METHOD:PUBLISH
X-ORIGINAL-URL:https://isdm.umontpellier.fr
X-WR-CALDESC:Évènements pour 
REFRESH-INTERVAL;VALUE=DURATION:PT1H
X-Robots-Tag:noindex
X-PUBLISHED-TTL:PT1H
BEGIN:VTIMEZONE
TZID:Europe/Paris
BEGIN:DAYLIGHT
TZOFFSETFROM:+0100
TZOFFSETTO:+0200
TZNAME:CEST
DTSTART:20230326T010000
END:DAYLIGHT
BEGIN:STANDARD
TZOFFSETFROM:+0200
TZOFFSETTO:+0100
TZNAME:CET
DTSTART:20231029T010000
END:STANDARD
BEGIN:DAYLIGHT
TZOFFSETFROM:+0100
TZOFFSETTO:+0200
TZNAME:CEST
DTSTART:20240331T010000
END:DAYLIGHT
BEGIN:STANDARD
TZOFFSETFROM:+0200
TZOFFSETTO:+0100
TZNAME:CET
DTSTART:20241027T010000
END:STANDARD
BEGIN:DAYLIGHT
TZOFFSETFROM:+0100
TZOFFSETTO:+0200
TZNAME:CEST
DTSTART:20250330T010000
END:DAYLIGHT
BEGIN:STANDARD
TZOFFSETFROM:+0200
TZOFFSETTO:+0100
TZNAME:CET
DTSTART:20251026T010000
END:STANDARD
BEGIN:DAYLIGHT
TZOFFSETFROM:+0100
TZOFFSETTO:+0200
TZNAME:CEST
DTSTART:20260329T010000
END:DAYLIGHT
BEGIN:STANDARD
TZOFFSETFROM:+0200
TZOFFSETTO:+0100
TZNAME:CET
DTSTART:20261025T010000
END:STANDARD
BEGIN:DAYLIGHT
TZOFFSETFROM:+0100
TZOFFSETTO:+0200
TZNAME:CEST
DTSTART:20270328T010000
END:DAYLIGHT
BEGIN:STANDARD
TZOFFSETFROM:+0200
TZOFFSETTO:+0100
TZNAME:CET
DTSTART:20271031T010000
END:STANDARD
END:VTIMEZONE
BEGIN:VEVENT
DTSTART;TZID=Europe/Paris:20260414T131500
DTEND;TZID=Europe/Paris:20260414T161500
DTSTAMP:20260424T155701
CREATED:20260105T103141Z
LAST-MODIFIED:20260105T132721Z
UID:10000303-1776172500-1776183300@isdm.umontpellier.fr
SUMMARY:INFO : Apptainer - Initiation à la reproductibilité
DESCRIPTION:Campus Triolet\, Pl. Eugène Bataillon\, Bat 5\, TD 5.212\nGino Frazzoli\, Jonathan Dubois\, Céline Mandier – Institut de Science des Données de Montpellier \nDans cet atelier pratique\, découvrez la reproductibilité avec Apptainer (Singularity)\, un outil de conteneurisation incontournable pour créer des environnements informatiques afin de reproduire vos résultats en toutes circonstances et sur toutes les machines. Celui-ci va créer une « boîte » exportable de vos logiciels avec vos versions. Rejoignez nous pour acquérir ces compétences essentielles ! \nObjectifs de la formation : \n– Introduction à la notion de conteneur / image / Apptainer\n– Installation de Apptainer\n– Exécution d’un conteneur Apptainer \nPrérequis :\n– Ordinateur personnel\n– Système d’exploitation : Linux ou Windows 10 / 11 avec WSL2\n– Notion de base des commandes Linux \nNe manquez pas cette occasion ! \nInscription
URL:https://isdm.umontpellier.fr/event/apptainer-initiation-a-la-reproductibilite-2/
CATEGORIES:Formations
ATTACH;FMTTYPE=image/png:https://isdm.umontpellier.fr/wp-content/uploads/2025/06/info_4.png
END:VEVENT
BEGIN:VEVENT
DTSTART;TZID=Europe/Paris:20260226T131500
DTEND;TZID=Europe/Paris:20260226T161500
DTSTAMP:20260424T155701
CREATED:20260105T125528Z
LAST-MODIFIED:20260216T084032Z
UID:10000323-1772111700-1772122500@isdm.umontpellier.fr
SUMMARY:INFO : Apptainer - Initiation à la reproductibilité
DESCRIPTION:Campus Triolet\, Pl. Eugène Bataillon\, Bat 5\, TD 5.204\nGino Frazzoli\, Jonathan Dubois\, Céline Mandier – Institut de Science des Données de Montpellier \nDans cet atelier pratique\, découvrez la reproductibilité avec Apptainer (Singularity)\, un outil de conteneurisation incontournable pour créer des environnements informatiques afin de reproduire vos résultats en toutes circonstances et sur toutes les machines. Celui-ci va créer une « boîte » exportable de vos logiciels avec vos versions. Rejoignez nous pour acquérir ces compétences essentielles ! \nObjectifs de la formation : \n– Introduction à la notion de conteneur / image / Apptainer\n– Installation de Apptainer\n– Exécution d’un conteneur Apptainer \nPrérequis :\n– Ordinateur personnel\n– Système d’exploitation : Linux ou Windows 10 / 11 avec WSL2\n– Notion de base des commandes Linux  \nNe manquez pas cette occasion ! \n            Inscription
URL:https://isdm.umontpellier.fr/event/info-apptainer-initiation-a-la-reproductibilite/
CATEGORIES:Formations
ATTACH;FMTTYPE=image/png:https://isdm.umontpellier.fr/wp-content/uploads/2025/06/info_4.png
END:VEVENT
BEGIN:VEVENT
DTSTART;TZID=Europe/Paris:20251030T131500
DTEND;TZID=Europe/Paris:20251030T161500
DTSTAMP:20260424T155701
CREATED:20250709T135906Z
LAST-MODIFIED:20251028T121056Z
UID:10000230-1761830100-1761840900@isdm.umontpellier.fr
SUMMARY:INFO : Initiation à la reproductibilité avec Apptainer
DESCRIPTION:Campus Triolet\, Bat 36\, SC36.05\nÉquipe formation – Institut de Science des Données de Montpellier \nDans cet atelier pratique\, découvrez la reproductibilité avec Apptainer (Singularity)\, un outil de conteneurisation incontournable pour créer des environnements informatiques afin de reproduire vos résultats en toutes circonstances et sur toutes les machines. Grâce à lui\, vous pourrez encapsuler vos logiciels et leurs versions dans une « boîte » exportable\, garantissant des résultats reproductibles\, quel que soit le système utilisé. \nObjectifs :\n• Introduction à la notion de conteneur / image / Apptainer\n• Installation de Apptainer\n• Exécution d’un conteneur Apptainer \nPrérequis :\n• Ordinateur personnel\n• Système d’exploitation : Linux ou Windows 10 / 11 avec WSL2\n• Notion de base des commandes Linux \nInscription gratuite mais obligatoire \nInscription
URL:https://isdm.umontpellier.fr/event/info-initiation-a-la-reproductibilite-avec-apptainer-2/
CATEGORIES:Formations
ATTACH;FMTTYPE=image/png:https://isdm.umontpellier.fr/wp-content/uploads/2025/06/info_4.png
END:VEVENT
BEGIN:VEVENT
DTSTART;TZID=Europe/Paris:20250909T131500
DTEND;TZID=Europe/Paris:20250909T161500
DTSTAMP:20260424T155701
CREATED:20250709T140002Z
LAST-MODIFIED:20250709T140002Z
UID:10000243-1757423700-1757434500@isdm.umontpellier.fr
SUMMARY:INFO : Initiation à la reproductibilité avec Apptainer
DESCRIPTION:Campus Triolet\, Bat 36\, SC36.05\nÉquipe formation – Institut de Science des Données de Montpellier \nDans cet atelier pratique\, découvrez la reproductibilité avec Apptainer (Singularity)\, un outil de conteneurisation incontournable pour créer des environnements informatiques afin de reproduire vos résultats en toutes circonstances et sur toutes les machines. Grâce à lui\, vous pourrez encapsuler vos logiciels et leurs versions dans une « boîte » exportable\, garantissant des résultats reproductibles\, quel que soit le système utilisé. \nObjectifs :\n• Introduction à la notion de conteneur / image / Apptainer\n• Installation de Apptainer\n• Exécution d’un conteneur Apptainer \nPrérequis :\n• Ordinateur personnel\n• Système d’exploitation : Linux ou Windows 10 / 11 avec WSL2\n• Notion de base des commandes Linux  \nInscription gratuite mais obligatoire \n            Inscription
URL:https://isdm.umontpellier.fr/event/info-initiation-a-la-reproductibilite-avec-apptainer-3/
CATEGORIES:Formations
ATTACH;FMTTYPE=image/png:https://isdm.umontpellier.fr/wp-content/uploads/2025/06/info_4.png
END:VEVENT
BEGIN:VEVENT
DTSTART;TZID=Europe/Paris:20250612T131500
DTEND;TZID=Europe/Paris:20250612T161500
DTSTAMP:20260424T155701
CREATED:20241218T125130Z
LAST-MODIFIED:20250606T131301Z
UID:10000080-1749734100-1749744900@isdm.umontpellier.fr
SUMMARY:Initiation à la reproductibilité avec Apptainer
DESCRIPTION:Campus Triolet\, Bâtiment 4 salle 4.04 \nRejoignez-nous pour un atelier sur la reproductibilité avec Apptainer (Singularity) ! \nDans cet atelier pratique\, découvrez la reproductibilité avec Apptainer (Singularity)\, un outil de conteneurisation incontournable pour créer des environnements informatiques afin de reproduire vos résultats en toutes circonstances et sur toutes les machines. Celui-ci va créer une « boîte » exportable de vos logiciels avec vos versions. Rejoignez-nous pour acquérir ces compétences essentielles ! \nObjectifs de la formation :\n• Introduction à la notion de conteneur / image / Apptainer\n• Installation de Apptainer\n• Exécution d’un conteneur Apptainer \nPrérequis :\n• Ordinateur personnel\n• Système d’exploitation : Linux ou Windows 10 / 11 avec WSL2\n• Notion de base des commandes Linux \nNe manquez pas cette occasion pour vous former sur la reproductibilité ! \n[ Inscription ]
URL:https://isdm.umontpellier.fr/event/initiation-a-la-reproductibilite-avec-apptainer-6/
CATEGORIES:Formations
ATTACH;FMTTYPE=image/png:https://isdm.umontpellier.fr/wp-content/uploads/2024/10/Formation-apptainer.png
END:VEVENT
BEGIN:VEVENT
DTSTART;TZID=Europe/Paris:20250515T131500
DTEND;TZID=Europe/Paris:20250515T161500
DTSTAMP:20260424T155701
CREATED:20241218T125012Z
LAST-MODIFIED:20250512T080949Z
UID:10000079-1747314900-1747325700@isdm.umontpellier.fr
SUMMARY:Initiation à la reproductibilité avec Apptainer
DESCRIPTION:Campus Triolet\, Pl. Eugène Bataillon\, Bat 4\, SC 4.04 \nRejoignez-nous pour un atelier sur la reproductibilité avec Apptainer (Singularity) ! \nDans cet atelier pratique\, découvrez la reproductibilité avec Apptainer (Singularity)\, un outil de conteneurisation incontournable pour créer des environnements informatiques afin de reproduire vos résultats en toutes circonstances et sur toutes les machines. Celui-ci va créer une « boîte » exportable de vos logiciels avec vos versions. Rejoignez-nous pour acquérir ces compétences essentielles ! \nObjectifs de la formation :\n• Introduction à la notion de conteneur / image / Apptainer\n• Installation de Apptainer\n• Exécution d’un conteneur Apptainer \nPrérequis :\n• Ordinateur personnel\n• Système d’exploitation : Linux ou Windows 10 / 11 avec WSL2\n• Notion de base des commandes Linux \nNe manquez pas cette occasion pour vous former sur la reproductibilité ! \n[ Inscription ]
URL:https://isdm.umontpellier.fr/event/initiation-a-la-reproductibilite-avec-apptainer-5/
CATEGORIES:Formations
ATTACH;FMTTYPE=image/png:https://isdm.umontpellier.fr/wp-content/uploads/2024/10/Formation-apptainer.png
END:VEVENT
BEGIN:VEVENT
DTSTART;TZID=Europe/Paris:20250416T131500
DTEND;TZID=Europe/Paris:20250416T161500
DTSTAMP:20260424T155701
CREATED:20241218T124808Z
LAST-MODIFIED:20241218T124808Z
UID:10000078-1744809300-1744820100@isdm.umontpellier.fr
SUMMARY:Initiation à la reproductibilité avec Apptainer
DESCRIPTION:Rejoignez-nous pour un atelier sur la reproductibilité avec Apptainer (Singularity) ! \nDans cet atelier pratique\, découvrez la reproductibilité avec Apptainer (Singularity)\, un outil de conteneurisation incontournable pour créer des environnements informatiques afin de reproduire vos résultats en toutes circonstances et sur toutes les machines. Celui-ci va créer une « boîte » exportable de vos logiciels avec vos versions. Rejoignez-nous pour acquérir ces compétences essentielles ! \nObjectifs de la formation :\n• Introduction à la notion de conteneur / image / Apptainer\n• Installation de Apptainer\n• Exécution d’un conteneur Apptainer \nPrérequis :\n• Ordinateur personnel\n• Système d’exploitation : Linux ou Windows 10 / 11 avec WSL2\n• Notion de base des commandes Linux \nNe manquez pas cette occasion pour vous former sur la reproductibilité ! \n[ Inscription ]
URL:https://isdm.umontpellier.fr/event/initiation-a-la-reproductibilite-avec-apptainer-4/
CATEGORIES:Formations
ATTACH;FMTTYPE=image/png:https://isdm.umontpellier.fr/wp-content/uploads/2024/10/Formation-apptainer.png
END:VEVENT
BEGIN:VEVENT
DTSTART;TZID=Europe/Paris:20250325T131500
DTEND;TZID=Europe/Paris:20250325T161500
DTSTAMP:20260424T155701
CREATED:20241218T124710Z
LAST-MODIFIED:20241218T124710Z
UID:10000077-1742908500-1742919300@isdm.umontpellier.fr
SUMMARY:Initiation à la reproductibilité avec Apptainer
DESCRIPTION:Rejoignez-nous pour un atelier sur la reproductibilité avec Apptainer (Singularity) ! \nDans cet atelier pratique\, découvrez la reproductibilité avec Apptainer (Singularity)\, un outil de conteneurisation incontournable pour créer des environnements informatiques afin de reproduire vos résultats en toutes circonstances et sur toutes les machines. Celui-ci va créer une « boîte » exportable de vos logiciels avec vos versions. Rejoignez-nous pour acquérir ces compétences essentielles ! \nObjectifs de la formation :\n• Introduction à la notion de conteneur / image / Apptainer\n• Installation de Apptainer\n• Exécution d’un conteneur Apptainer \nPrérequis :\n• Ordinateur personnel\n• Système d’exploitation : Linux ou Windows 10 / 11 avec WSL2\n• Notion de base des commandes Linux \nNe manquez pas cette occasion pour vous former sur la reproductibilité ! \n[ Inscription ]
URL:https://isdm.umontpellier.fr/event/initiation-a-la-reproductibilite-avec-apptainer-3/
CATEGORIES:Formations
ATTACH;FMTTYPE=image/png:https://isdm.umontpellier.fr/wp-content/uploads/2024/10/Formation-apptainer.png
END:VEVENT
BEGIN:VEVENT
DTSTART;TZID=Europe/Paris:20250220T131500
DTEND;TZID=Europe/Paris:20250220T161500
DTSTAMP:20260424T155701
CREATED:20241218T124545Z
LAST-MODIFIED:20241218T124545Z
UID:10000076-1740057300-1740068100@isdm.umontpellier.fr
SUMMARY:Initiation à la reproductibilité avec Apptainer
DESCRIPTION:Rejoignez-nous pour un atelier sur la reproductibilité avec Apptainer (Singularity) ! \nDans cet atelier pratique\, découvrez la reproductibilité avec Apptainer (Singularity)\, un outil de conteneurisation incontournable pour créer des environnements informatiques afin de reproduire vos résultats en toutes circonstances et sur toutes les machines. Celui-ci va créer une « boîte » exportable de vos logiciels avec vos versions. Rejoignez-nous pour acquérir ces compétences essentielles ! \nObjectifs de la formation :\n• Introduction à la notion de conteneur / image / Apptainer\n• Installation de Apptainer\n• Exécution d’un conteneur Apptainer \nPrérequis :\n• Ordinateur personnel\n• Système d’exploitation : Linux ou Windows 10 / 11 avec WSL2\n• Notion de base des commandes Linux \nNe manquez pas cette occasion pour vous former sur la reproductibilité ! \n[ Inscription ]
URL:https://isdm.umontpellier.fr/event/initiation-a-la-reproductibilite-avec-apptainer-2/
CATEGORIES:Formations
ATTACH;FMTTYPE=image/png:https://isdm.umontpellier.fr/wp-content/uploads/2024/10/Formation-apptainer.png
END:VEVENT
BEGIN:VEVENT
DTSTART;TZID=Europe/Paris:20250115T131500
DTEND;TZID=Europe/Paris:20250115T161500
DTSTAMP:20260424T155701
CREATED:20241218T124251Z
LAST-MODIFIED:20241218T124251Z
UID:10000075-1736946900-1736957700@isdm.umontpellier.fr
SUMMARY:Initiation à la reproductibilité avec Apptainer
DESCRIPTION:Rejoignez-nous pour un atelier sur la reproductibilité avec Apptainer (Singularity) ! \nDans cet atelier pratique\, découvrez la reproductibilité avec Apptainer (Singularity)\, un outil de conteneurisation incontournable pour créer des environnements informatiques afin de reproduire vos résultats en toutes circonstances et sur toutes les machines. Celui-ci va créer une « boîte » exportable de vos logiciels avec vos versions. Rejoignez-nous pour acquérir ces compétences essentielles ! \nObjectifs de la formation :\n• Introduction à la notion de conteneur / image / Apptainer\n• Installation de Apptainer\n• Exécution d’un conteneur Apptainer \nPrérequis :\n• Ordinateur personnel\n• Système d’exploitation : Linux ou Windows 10 / 11 avec WSL2\n• Notion de base des commandes Linux \nNe manquez pas cette occasion pour vous former sur la reproductibilité ! \n[ Inscription ]
URL:https://isdm.umontpellier.fr/event/initiation-a-la-reproductibilite-avec-apptainer/
CATEGORIES:Formations
ATTACH;FMTTYPE=image/png:https://isdm.umontpellier.fr/wp-content/uploads/2024/10/Formation-apptainer.png
END:VEVENT
BEGIN:VEVENT
DTSTART;TZID=Europe/Paris:20241219T131500
DTEND;TZID=Europe/Paris:20241219T161500
DTSTAMP:20260424T155701
CREATED:20241017T131336Z
LAST-MODIFIED:20241017T131336Z
UID:10000061-1734614100-1734624900@isdm.umontpellier.fr
SUMMARY:Initiation à la reproductibilité avec Apptainer (Singularity)
DESCRIPTION:Vous souhaitez partager vos données (scripts\, applications\, résultats) de façon sécurisée et reproductible sur n’importe quel type de machine (local\, HPC\, VM)\, la conteneurisation avec Apptainer est une solution incontournable. \n  \nObjectifs : \n\nIntroduction à la notion de conteneur / image / Apptainer\nInstallation de Apptainer\nCréation d’une image Apptainer via Docker\nExécution d’un conteneur Apptainer\n\nPublic concerné : Personnel manipulant des données et voulant s’initier à la reproductibilité avec Apptainer (Singularity) \nPré requis : \n\nAvoir un ordinateur\nSystème d’exploitation Linux\, Windows (10/11) avec WSL2\nNotions de base des commandes Linux\n\nNe manquez pas cette occasion ! S’inscrire ici !
URL:https://isdm.umontpellier.fr/event/initiation-a-la-reproductibilite-avec-apptainer-singularity-2/
LOCATION:SC36.08\, bâtiment 36\,  Campus Triolet
CATEGORIES:Formations
ATTACH;FMTTYPE=image/png:https://isdm.umontpellier.fr/wp-content/uploads/2024/10/Formation-apptainer.png
END:VEVENT
BEGIN:VEVENT
DTSTART;TZID=Europe/Paris:20241203T131500
DTEND;TZID=Europe/Paris:20241203T161500
DTSTAMP:20260424T155701
CREATED:20241017T131215Z
LAST-MODIFIED:20241017T131215Z
UID:10000060-1733231700-1733242500@isdm.umontpellier.fr
SUMMARY:Initiation à la reproductibilité avec Apptainer (Singularity)
DESCRIPTION:Vous souhaitez partager vos données (scripts\, applications\, résultats) de façon sécurisée et reproductible sur n’importe quel type de machine (local\, HPC\, VM)\, la conteneurisation avec Apptainer est une solution incontournable. \n  \nObjectifs : \n\nIntroduction à la notion de conteneur / image / Apptainer\nInstallation de Apptainer\nCréation d’une image Apptainer via Docker\nExécution d’un conteneur Apptainer\n\nPublic concerné : Personnel manipulant des données et voulant s’initier à la reproductibilité avec Apptainer (Singularity) \nPré requis : \n\nAvoir un ordinateur\nSystème d’exploitation Linux\, Windows (10/11) avec WSL2\nNotions de base des commandes Linux\n\nNe manquez pas cette occasion ! S’inscrire ici !
URL:https://isdm.umontpellier.fr/event/initiation-a-la-reproductibilite-avec-apptainer-singularity/
LOCATION:SC36.08\, bâtiment 36\,  Campus Triolet
CATEGORIES:Formations
ATTACH;FMTTYPE=image/png:https://isdm.umontpellier.fr/wp-content/uploads/2024/10/Formation-apptainer.png
END:VEVENT
BEGIN:VEVENT
DTSTART;TZID=Europe/Paris:20241105T131000
DTEND;TZID=Europe/Paris:20241105T161500
DTSTAMP:20260424T155701
CREATED:20241017T131043Z
LAST-MODIFIED:20241017T131043Z
UID:10000059-1730812200-1730823300@isdm.umontpellier.fr
SUMMARY:Initiation à la reproductibilité avec Apptainer (Singularity)
DESCRIPTION:Vous souhaitez partager vos données (scripts\, applications\, résultats) de façon sécurisée et reproductible sur n’importe quel type de machine (local\, HPC\, VM)\, la conteneurisation avec Apptainer est une solution incontournable. \n  \nObjectifs : \n\nIntroduction à la notion de conteneur / image / Apptainer\nInstallation de Apptainer\nCréation d’une image Apptainer via Docker\nExécution d’un conteneur Apptainer\n\nPublic concerné : Personnel manipulant des données et voulant s’initier à la reproductibilité avec Apptainer (Singularity) \nPré requis : \n\nAvoir un ordinateur\nSystème d’exploitation Linux\, Windows (10/11) avec WSL2\nNotions de base des commandes Linux\n\nNe manquez pas cette occasion ! S’inscrire ici !
URL:https://isdm.umontpellier.fr/event/apptainer/
LOCATION:SC36.05\, bâtiment 36\,  Campus Triolet
CATEGORIES:Formations
ATTACH;FMTTYPE=image/png:https://isdm.umontpellier.fr/wp-content/uploads/2024/10/Formation-apptainer.png
END:VEVENT
END:VCALENDAR