BEGIN:VCALENDAR
VERSION:2.0
PRODID:-// - ECPv6.15.15//NONSGML v1.0//EN
CALSCALE:GREGORIAN
METHOD:PUBLISH
X-ORIGINAL-URL:https://isdm.umontpellier.fr
X-WR-CALDESC:Évènements pour 
REFRESH-INTERVAL;VALUE=DURATION:PT1H
X-Robots-Tag:noindex
X-PUBLISHED-TTL:PT1H
BEGIN:VTIMEZONE
TZID:Europe/Paris
BEGIN:DAYLIGHT
TZOFFSETFROM:+0100
TZOFFSETTO:+0200
TZNAME:CEST
DTSTART:20230326T010000
END:DAYLIGHT
BEGIN:STANDARD
TZOFFSETFROM:+0200
TZOFFSETTO:+0100
TZNAME:CET
DTSTART:20231029T010000
END:STANDARD
BEGIN:DAYLIGHT
TZOFFSETFROM:+0100
TZOFFSETTO:+0200
TZNAME:CEST
DTSTART:20240331T010000
END:DAYLIGHT
BEGIN:STANDARD
TZOFFSETFROM:+0200
TZOFFSETTO:+0100
TZNAME:CET
DTSTART:20241027T010000
END:STANDARD
BEGIN:DAYLIGHT
TZOFFSETFROM:+0100
TZOFFSETTO:+0200
TZNAME:CEST
DTSTART:20250330T010000
END:DAYLIGHT
BEGIN:STANDARD
TZOFFSETFROM:+0200
TZOFFSETTO:+0100
TZNAME:CET
DTSTART:20251026T010000
END:STANDARD
BEGIN:DAYLIGHT
TZOFFSETFROM:+0100
TZOFFSETTO:+0200
TZNAME:CEST
DTSTART:20260329T010000
END:DAYLIGHT
BEGIN:STANDARD
TZOFFSETFROM:+0200
TZOFFSETTO:+0100
TZNAME:CET
DTSTART:20261025T010000
END:STANDARD
BEGIN:DAYLIGHT
TZOFFSETFROM:+0100
TZOFFSETTO:+0200
TZNAME:CEST
DTSTART:20270328T010000
END:DAYLIGHT
BEGIN:STANDARD
TZOFFSETFROM:+0200
TZOFFSETTO:+0100
TZNAME:CET
DTSTART:20271031T010000
END:STANDARD
END:VTIMEZONE
BEGIN:VEVENT
DTSTART;TZID=Europe/Paris:20260127T140000
DTEND;TZID=Europe/Paris:20260127T160000
DTSTAMP:20260419T154941
CREATED:20260105T125458Z
LAST-MODIFIED:20260119T073745Z
UID:10000319-1769522400-1769529600@isdm.umontpellier.fr
SUMMARY:INFO : La collaboration avec Git
DESCRIPTION:Campus Triolet\, Pl. Eugène Bataillon\, Bat 5\, TD 5.212\nCéline Mandier – Institut de Science des Données de Montpellier \nParticipez à un atelier pratique dédié à la collaboration avec Git\, outil clé pour la gestion\, l’intégrité et la traçabilité des projets de recherche. Vous y apprendrez à gérer des projets sur GitLab\, organiser des groupes d’utilisateurs et résoudre des conflits lors des pulls. \nObjectifs de la formation :\n• Créer et gérer des groupes d’utilisateurs sur la plateforme GitLab\n• Gérer un projet Git\n• Réaliser des pulls avec résolution de conflit de fichiers \nPrérequis :\n• Ordinateur personnel\n• Identifiants académiques\n• Système d’exploitation : Linux ou Windows 10 / 11 avec WSL2\n• Notion de base des commandes Linux\n• Avoir suivi le premier module de Git : Initiation à Git\n• Pré-installation de Git \nVous pouvez venir à partir de 13h15 pour une aide à l’installation\nInscription gratuite mais obligatoire \n            Inscription
URL:https://isdm.umontpellier.fr/event/info-la-collaboration-avec-git/
CATEGORIES:Formations
ATTACH;FMTTYPE=image/png:https://isdm.umontpellier.fr/wp-content/uploads/2025/06/info_2.png
END:VEVENT
BEGIN:VEVENT
DTSTART;TZID=Europe/Paris:20251118T131500
DTEND;TZID=Europe/Paris:20251118T161500
DTSTAMP:20260419T154941
CREATED:20250709T135851Z
LAST-MODIFIED:20251028T122840Z
UID:10000226-1763471700-1763482500@isdm.umontpellier.fr
SUMMARY:INFO : Devenir expert en branches avec Git
DESCRIPTION:Campus Triolet\, Bat 36\, SC36.05\nCéline Mandier – Institut de Science des Données de Montpellier \nVenez assister à un atelier pratique pour maîtriser la gestion des branches avec Git\, un outil essentiel pour une collaboration efficace en recherche. Vous apprendrez à créer\, gérer et utiliser les branches selon les bonnes pratiques pour optimiser le travail en équipe. \nObjectifs de la formation :\n• Définir une branche\n• Créer et gérer des branches\n• Collaborer avec les branches\n• Connaître les bonnes pratiques des branches \nPrérequis :\n• Ordinateur personnel\n• Identifiants académiques\n• Système d’exploitation : Linux ou Windows 10 / 11 avec WSL2\n• Notion de base des commandes Linux\n• Avoir suivi les deux modules précédents\n• Pré-installation de Git \nInscription gratuite mais obligatoire \nInscription
URL:https://isdm.umontpellier.fr/event/info-devenir-expert-en-branches-avec-git/
CATEGORIES:Formations
ATTACH;FMTTYPE=image/png:https://isdm.umontpellier.fr/wp-content/uploads/2025/06/info_3.png
END:VEVENT
BEGIN:VEVENT
DTSTART;TZID=Europe/Paris:20251014T131500
DTEND;TZID=Europe/Paris:20251014T161500
DTSTAMP:20260419T154941
CREATED:20250709T135910Z
LAST-MODIFIED:20250709T135910Z
UID:10000234-1760447700-1760458500@isdm.umontpellier.fr
SUMMARY:INFO : Devenir expert en branches avec Git
DESCRIPTION:Campus Triolet\, Bat 36\, SC36.05\nCéline Mandier – Institut de Science des Données de Montpellier \nVenez assister à un atelier pratique pour maîtriser la gestion des branches avec Git\, un outil essentiel pour une collaboration efficace en recherche. Vous apprendrez à créer\, gérer et utiliser les branches selon les bonnes pratiques pour optimiser le travail en équipe. \nObjectifs de la formation :\n• Définir une branche\n• Créer et gérer des branches\n• Collaborer avec les branches\n• Connaître les bonnes pratiques des branches \nPrérequis :\n• Ordinateur personnel\n• Identifiants académiques\n• Système d’exploitation : Linux ou Windows 10 / 11 avec WSL2\n• Notion de base des commandes Linux\n• Avoir suivi les deux modules précédents\n• Pré-installation de Git \nInscription gratuite mais obligatoire \n            Inscription
URL:https://isdm.umontpellier.fr/event/info-devenir-expert-en-branches-avec-git-2/
CATEGORIES:Formations
ATTACH;FMTTYPE=image/png:https://isdm.umontpellier.fr/wp-content/uploads/2025/06/info_3.png
END:VEVENT
BEGIN:VEVENT
DTSTART;TZID=Europe/Paris:20250701T140000
DTEND;TZID=Europe/Paris:20250701T160000
DTSTAMP:20260419T154941
CREATED:20241219T083538Z
LAST-MODIFIED:20250630T071627Z
UID:10000089-1751378400-1751385600@isdm.umontpellier.fr
SUMMARY:Premiers pas dans la collaboration avec Git
DESCRIPTION:Campus Triolet\, Bâtiment 4 salle 4.04 \nRejoignez-nous pour un atelier sur la collaboration avec Git ! \nDans cet atelier pratique\, découvrez la collaboration avec Git\, un outil incontournable pour l’intégrité et la traçabilité des projets de recherche. Rejoignez-nous pour acquérir ces compétences essentielles ! \nObjectifs de la formation :\n• Créer et gérer des groupes d’utilisateurs sur la plateforme GitLab\n• Gérer un projet Git\n• Réaliser des pulls avec résolution de conflit de fichiers \nPrérequis :\n• Ordinateur personnel\n• Système d’exploitation : Linux ou Windows 10 / 11 avec WSL2\n• Notion de base des commandes Linux et de Git (formation initiation à Git)\n• Pré-installation de Git \nNe manquez pas cette occasion pour gérer vos projet avec Git !\nPossibilité de venir à partir de 13h15 pour une aide à l’installation des outils. \n[ Inscription ]
URL:https://isdm.umontpellier.fr/event/premiers-pas-dans-la-collaboration-avec-git-6/
CATEGORIES:Formations
ATTACH;FMTTYPE=image/png:https://isdm.umontpellier.fr/wp-content/uploads/2024/08/formation-collab-git-2.png
END:VEVENT
BEGIN:VEVENT
DTSTART;TZID=Europe/Paris:20250617T131500
DTEND;TZID=Europe/Paris:20250617T161500
DTSTAMP:20260419T154941
CREATED:20241219T093127Z
LAST-MODIFIED:20250602T124731Z
UID:10000091-1750166100-1750176900@isdm.umontpellier.fr
SUMMARY:Devenir expert en branches avec Git
DESCRIPTION:Campus Triolet\, Bat 4 \, SC 4.04 \nRejoignez-nous pour un atelier sur la gestion des branches avec Git ! \nDans cet atelier pratique\, découvrez les branches avec Git\, une fonctionnalité incontournable pour la collaboration au sein des projets de recherche. Rejoignez-nous pour devenir un expert des branches ! \nObjectifs de la formation :\n• Définir une branche\n• Créer et gérer des branches\n• Collaborer avec les branches\n• Connaître les bonnes pratiques des branches \nPrérequis :\n• Ordinateur personnel\n• Système d’exploitation : Linux ou Windows 10 / 11 avec WSL2\n• Notion de base des commandes Linux et de Git (formation initiation à Git et premiers pas dans la collaboration avec Git)\n• Pré-installation de Git \nNe manquez pas cette occasion pour gérer vos projet avec Git ! \n[ Inscription ]
URL:https://isdm.umontpellier.fr/event/devenir-expert-en-branches-avec-git-3/
CATEGORIES:Formations
ATTACH;FMTTYPE=image/jpeg:https://isdm.umontpellier.fr/wp-content/uploads/2024/12/illustration_formation_git_3.jpg
END:VEVENT
BEGIN:VEVENT
DTSTART;TZID=Europe/Paris:20250521T140000
DTEND;TZID=Europe/Paris:20250521T160000
DTSTAMP:20260419T154941
CREATED:20241219T083448Z
LAST-MODIFIED:20250519T080411Z
UID:10000088-1747836000-1747843200@isdm.umontpellier.fr
SUMMARY:Premiers pas dans la collaboration avec Git
DESCRIPTION:Campus Triolet\, Bat 4 \, SC 4.04 \nRejoignez-nous pour un atelier sur la collaboration avec Git ! \nDans cet atelier pratique\, découvrez la collaboration avec Git\, un outil incontournable pour l’intégrité et la traçabilité des projets de recherche. Rejoignez-nous pour acquérir ces compétences essentielles ! \nObjectifs de la formation :\n• Créer et gérer des groupes d’utilisateurs sur la plateforme GitLab\n• Gérer un projet Git\n• Réaliser des pulls avec résolution de conflit de fichiers \nPrérequis :\n• Ordinateur personnel\n• Système d’exploitation : Linux ou Windows 10 / 11 avec WSL2\n• Notion de base des commandes Linux et de Git (formation initiation à Git)\n• Pré-installation de Git \nNe manquez pas cette occasion pour gérer vos projet avec Git !\nPossibilité de venir à partir de 13h15 pour une aide à l’installation des outils. \n[ Inscription ]
URL:https://isdm.umontpellier.fr/event/premiers-pas-dans-la-collaboration-avec-git-5/
CATEGORIES:Formations
ATTACH;FMTTYPE=image/png:https://isdm.umontpellier.fr/wp-content/uploads/2024/08/formation-collab-git-2.png
END:VEVENT
BEGIN:VEVENT
DTSTART;TZID=Europe/Paris:20250319T131500
DTEND;TZID=Europe/Paris:20250319T161500
DTSTAMP:20260419T154941
CREATED:20241219T093013Z
LAST-MODIFIED:20241219T093013Z
UID:10000090-1742390100-1742400900@isdm.umontpellier.fr
SUMMARY:Devenir expert en branches avec Git
DESCRIPTION:Rejoignez-nous pour un atelier sur la gestion des branches avec Git ! \nDans cet atelier pratique\, découvrez les branches avec Git\, une fonctionnalité incontournable pour la collaboration au sein des projets de recherche. Rejoignez-nous pour devenir un expert des branches ! \nObjectifs de la formation :\n• Définir une branche\n• Créer et gérer des branches\n• Collaborer avec les branches\n• Connaître les bonnes pratiques des branches \nPrérequis :\n• Ordinateur personnel\n• Système d’exploitation : Linux ou Windows 10 / 11 avec WSL2\n• Notion de base des commandes Linux et de Git (formation initiation à Git et premiers pas dans la collaboration avec Git)\n• Pré-installation de Git \nNe manquez pas cette occasion pour gérer vos projet avec Git ! \n[ Inscription ]
URL:https://isdm.umontpellier.fr/event/devenir-expert-en-branches-avec-git-2/
CATEGORIES:Formations
ATTACH;FMTTYPE=image/jpeg:https://isdm.umontpellier.fr/wp-content/uploads/2024/12/illustration_formation_git_3.jpg
END:VEVENT
BEGIN:VEVENT
DTSTART;TZID=Europe/Paris:20250210T140000
DTEND;TZID=Europe/Paris:20250210T160000
DTSTAMP:20260419T154941
CREATED:20241219T083311Z
LAST-MODIFIED:20241219T083311Z
UID:10000087-1739196000-1739203200@isdm.umontpellier.fr
SUMMARY:Premiers pas dans la collaboration avec Git
DESCRIPTION:Rejoignez-nous pour un atelier sur la collaboration avec Git ! \nDans cet atelier pratique\, découvrez la collaboration avec Git\, un outil incontournable pour l’intégrité et la traçabilité des projets de recherche. Rejoignez-nous pour acquérir ces compétences essentielles ! \nObjectifs de la formation :\n• Créer et gérer des groupes d’utilisateurs sur la plateforme GitLab\n• Gérer un projet Git\n• Réaliser des pulls avec résolution de conflit de fichiers \nPrérequis :\n• Ordinateur personnel\n• Système d’exploitation : Linux ou Windows 10 / 11 avec WSL2\n• Notion de base des commandes Linux et de Git (formation initiation à Git)\n• Pré-installation de Git \nNe manquez pas cette occasion pour gérer vos projet avec Git !\nPossibilité de venir à partir de 13h15 pour une aide à l’installation des outils. \n[ Inscription ]
URL:https://isdm.umontpellier.fr/event/premiers-pas-dans-la-collaboration-avec-git-4-2/
CATEGORIES:Formations
ATTACH;FMTTYPE=image/png:https://isdm.umontpellier.fr/wp-content/uploads/2024/08/formation-collab-git-2.png
END:VEVENT
BEGIN:VEVENT
DTSTART;TZID=Europe/Paris:20241125T140000
DTEND;TZID=Europe/Paris:20241125T160000
DTSTAMP:20260419T154941
CREATED:20240826T114934Z
LAST-MODIFIED:20240826T114934Z
UID:10000024-1732543200-1732550400@isdm.umontpellier.fr
SUMMARY:Premiers pas dans la collaboration avec Git
DESCRIPTION:Rejoignez-nous pour un atelier sur la collaboration avec Git ! \nDans cet atelier pratique\, découvrez la collaboration avec Git\, un outil incontournable pour l’intégrité et la traçabilité des projets de recherche.\nRejoignez nous pour acquérir ces compétences essentielles !  \nObjectifs de la formation : \n\nCréer et gérer des groupes d’utilisateurs sur la plateforme GitLab\nGérer un projet Git\nRéaliser des pulls avec résolution de conflit de fichiers \n\nPrérequis : \n\nOrdinateur personnel\nSystème d’exploitation : Linux ou Windows 10 / 11 avec WSL2\nNotion de base des commandes Linux et de Git (formation initiation à Git)\nPré-installation de Git\n\nNe manquez pas cette occasion pour gérer vos projet avec Git ! S’inscrire ici !\nPossibilité de venir à partir de 13h15 pour une aide à l’installation des outils.
URL:https://isdm.umontpellier.fr/event/premiers-pas-dans-la-collaboration-avec-git-3/
LOCATION:SC36.07\, bâtiment 36\,  Campus Triolet
CATEGORIES:Formations
ATTACH;FMTTYPE=image/png:https://isdm.umontpellier.fr/wp-content/uploads/2024/08/6.png
END:VEVENT
BEGIN:VEVENT
DTSTART;TZID=Europe/Paris:20241125T140000
DTEND;TZID=Europe/Paris:20241125T160000
DTSTAMP:20260419T154941
CREATED:20240826T114934Z
LAST-MODIFIED:20240826T114934Z
UID:10000045-1732543200-1732550400@isdm.umontpellier.fr
SUMMARY:Premiers pas dans la collaboration avec Git
DESCRIPTION:Rejoignez-nous pour un atelier sur la collaboration avec Git ! \nDans cet atelier pratique\, découvrez la collaboration avec Git\, un outil incontournable pour l’intégrité et la traçabilité des projets de recherche.\nRejoignez nous pour acquérir ces compétences essentielles !  \nObjectifs de la formation : \n\nCréer et gérer des groupes d’utilisateurs sur la plateforme GitLab\nGérer un projet Git\nRéaliser des pulls avec résolution de conflit de fichiers \n\nPrérequis : \n\nOrdinateur personnel\nSystème d’exploitation : Linux ou Windows 10 / 11 avec WSL2\nNotion de base des commandes Linux et de Git (formation initiation à Git)\nPré-installation de Git\n\nNe manquez pas cette occasion pour gérer vos projet avec Git ! S’inscrire ici !\nPossibilité de venir à partir de 13h15 pour une aide à l’installation des outils.
URL:https://isdm.umontpellier.fr/event/premiers-pas-dans-la-collaboration-avec-git-3-2/
LOCATION:SC36.07\, bâtiment 36\,  Campus Triolet
CATEGORIES:Formations
END:VEVENT
BEGIN:VEVENT
DTSTART;TZID=Europe/Paris:20241016T140000
DTEND;TZID=Europe/Paris:20241016T160000
DTSTAMP:20260419T154941
CREATED:20240826T114858Z
LAST-MODIFIED:20240826T114858Z
UID:10000023-1729087200-1729094400@isdm.umontpellier.fr
SUMMARY:Premiers pas dans la collaboration avec Git
DESCRIPTION:Rejoignez-nous pour un atelier sur la collaboration avec Git ! \nDans cet atelier pratique\, découvrez la collaboration avec Git\, un outil incontournable pour l’intégrité et la traçabilité des projets de recherche.\nRejoignez nous pour acquérir ces compétences essentielles !  \nObjectifs de la formation : \n\nCréer et gérer des groupes d’utilisateurs sur la plateforme GitLab\nGérer un projet Git\nRéaliser des pulls avec résolution de conflit de fichiers \n\nPrérequis : \n\nOrdinateur personnel\nSystème d’exploitation : Linux ou Windows 10 / 11 avec WSL2\nNotion de base des commandes Linux et de Git (formation initiation à Git)\nPré-installation de Git\n\nNe manquez pas cette occasion pour gérer vos projet avec Git ! S’inscrire ici !\nPossibilité de venir à partir de 13h15 pour une aide à l’installation des outils.
URL:https://isdm.umontpellier.fr/event/premiers-pas-dans-la-collaboration-avec-git-2/
LOCATION:SC36.07\, bâtiment 36\,  Campus Triolet
CATEGORIES:Formations
ATTACH;FMTTYPE=image/png:https://isdm.umontpellier.fr/wp-content/uploads/2024/08/6.png
END:VEVENT
BEGIN:VEVENT
DTSTART;TZID=Europe/Paris:20241016T140000
DTEND;TZID=Europe/Paris:20241016T160000
DTSTAMP:20260419T154941
CREATED:20240826T114858Z
LAST-MODIFIED:20240826T114858Z
UID:10000044-1729087200-1729094400@isdm.umontpellier.fr
SUMMARY:Premiers pas dans la collaboration avec Git
DESCRIPTION:Rejoignez-nous pour un atelier sur la collaboration avec Git ! \nDans cet atelier pratique\, découvrez la collaboration avec Git\, un outil incontournable pour l’intégrité et la traçabilité des projets de recherche.\nRejoignez nous pour acquérir ces compétences essentielles !  \nObjectifs de la formation : \n\nCréer et gérer des groupes d’utilisateurs sur la plateforme GitLab\nGérer un projet Git\nRéaliser des pulls avec résolution de conflit de fichiers \n\nPrérequis : \n\nOrdinateur personnel\nSystème d’exploitation : Linux ou Windows 10 / 11 avec WSL2\nNotion de base des commandes Linux et de Git (formation initiation à Git)\nPré-installation de Git\n\nNe manquez pas cette occasion pour gérer vos projet avec Git ! S’inscrire ici !\nPossibilité de venir à partir de 13h15 pour une aide à l’installation des outils.
URL:https://isdm.umontpellier.fr/event/premiers-pas-dans-la-collaboration-avec-git-2-2/
LOCATION:SC36.07\, bâtiment 36\,  Campus Triolet
CATEGORIES:Formations
ATTACH;FMTTYPE=image/png:https://isdm.umontpellier.fr/wp-content/uploads/2024/08/formation-collab-git-2.png
END:VEVENT
BEGIN:VEVENT
DTSTART;TZID=Europe/Paris:20240923T140000
DTEND;TZID=Europe/Paris:20240923T160000
DTSTAMP:20260419T154941
CREATED:20240826T114215Z
LAST-MODIFIED:20240826T114527Z
UID:10000021-1727100000-1727107200@isdm.umontpellier.fr
SUMMARY:Premiers pas dans la collaboration avec Git
DESCRIPTION:Rejoignez-nous pour un atelier sur la collaboration avec Git ! \nDans cet atelier pratique\, découvrez la collaboration avec Git\, un outil incontournable pour l’intégrité et la traçabilité des projets de recherche.\nRejoignez nous pour acquérir ces compétences essentielles !  \nObjectifs de la formation : \n\nCréer et gérer des groupes d’utilisateurs sur la plateforme GitLab\nGérer un projet Git\nRéaliser des pulls avec résolution de conflit de fichiers \n\nPrérequis : \n\nOrdinateur personnel\nSystème d’exploitation : Linux ou Windows 10 / 11 avec WSL2\nNotion de base des commandes Linux et de Git (formation initiation à Git)\nPré-installation de Git\n\nNe manquez pas cette occasion pour gérer vos projet avec Git ! S’inscrire ici !\nPossibilité de venir à partir de 13h15 pour une aide à l’installation des outils.
URL:https://isdm.umontpellier.fr/event/premiers-pas-dans-la-collaboration-avec-git/
LOCATION:SC36.07\, bâtiment 36\,  Campus Triolet
CATEGORIES:Formations
ATTACH;FMTTYPE=image/png:https://isdm.umontpellier.fr/wp-content/uploads/2024/08/6.png
END:VEVENT
BEGIN:VEVENT
DTSTART;TZID=Europe/Paris:20240923T140000
DTEND;TZID=Europe/Paris:20240923T160000
DTSTAMP:20260419T154941
CREATED:20240826T114215Z
LAST-MODIFIED:20240826T114215Z
UID:10000042-1727100000-1727107200@isdm.umontpellier.fr
SUMMARY:Premiers pas dans la collaboration avec Git
DESCRIPTION:Rejoignez-nous pour un atelier sur la collaboration avec Git ! \nDans cet atelier pratique\, découvrez la collaboration avec Git\, un outil incontournable pour l’intégrité et la traçabilité des projets de recherche.\nRejoignez nous pour acquérir ces compétences essentielles !  \nObjectifs de la formation : \n\nCréer et gérer des groupes d’utilisateurs sur la plateforme GitLab\nGérer un projet Git\nRéaliser des pulls avec résolution de conflit de fichiers \n\nPrérequis : \n\nOrdinateur personnel\nSystème d’exploitation : Linux ou Windows 10 / 11 avec WSL2\nNotion de base des commandes Linux et de Git (formation initiation à Git)\nPré-installation de Git\n\nNe manquez pas cette occasion pour gérer vos projet avec Git ! S’inscrire ici !\nPossibilité de venir à partir de 13h15 pour une aide à l’installation des outils.
URL:https://isdm.umontpellier.fr/event/premiers-pas-dans-la-collaboration-avec-git-4/
LOCATION:SC36.07\, bâtiment 36\,  Campus Triolet
CATEGORIES:Formations
END:VEVENT
END:VCALENDAR