BEGIN:VCALENDAR
VERSION:2.0
PRODID:-// - ECPv6.15.15//NONSGML v1.0//EN
CALSCALE:GREGORIAN
METHOD:PUBLISH
X-ORIGINAL-URL:https://isdm.umontpellier.fr
X-WR-CALDESC:Évènements pour 
REFRESH-INTERVAL;VALUE=DURATION:PT1H
X-Robots-Tag:noindex
X-PUBLISHED-TTL:PT1H
BEGIN:VTIMEZONE
TZID:Europe/Paris
BEGIN:DAYLIGHT
TZOFFSETFROM:+0100
TZOFFSETTO:+0200
TZNAME:CEST
DTSTART:20230326T010000
END:DAYLIGHT
BEGIN:STANDARD
TZOFFSETFROM:+0200
TZOFFSETTO:+0100
TZNAME:CET
DTSTART:20231029T010000
END:STANDARD
BEGIN:DAYLIGHT
TZOFFSETFROM:+0100
TZOFFSETTO:+0200
TZNAME:CEST
DTSTART:20240331T010000
END:DAYLIGHT
BEGIN:STANDARD
TZOFFSETFROM:+0200
TZOFFSETTO:+0100
TZNAME:CET
DTSTART:20241027T010000
END:STANDARD
BEGIN:DAYLIGHT
TZOFFSETFROM:+0100
TZOFFSETTO:+0200
TZNAME:CEST
DTSTART:20250330T010000
END:DAYLIGHT
BEGIN:STANDARD
TZOFFSETFROM:+0200
TZOFFSETTO:+0100
TZNAME:CET
DTSTART:20251026T010000
END:STANDARD
END:VTIMEZONE
BEGIN:VEVENT
DTSTART;TZID=Europe/Paris:20241119T170000
DTEND;TZID=Europe/Paris:20241119T183000
DTSTAMP:20260420T023738
CREATED:20241031T125307Z
LAST-MODIFIED:20251022T073011Z
UID:10000066-1732035600-1732041000@isdm.umontpellier.fr
SUMMARY:Masterclass : Faire ses premiers pas avec l’IA
DESCRIPTION:Plongez dans l’univers fascinant de l’intelligence artificielle et découvrez comment cette technologie fait évoluer nos habitudes. \nCette formation vous permettra de comprendre les bases de l’IA\, ses applications concrètes et son impact sur votre vie quotidienne. Approfondissez vos connaissances grâce à des exemples concrets\, des démonstrations interactives\, et explorez les potentialités de l’IA pour votre vie personnelle et professionnelle ! \nObjectifs d’apprentissage : \n\nComprendre les bases de l’IA\nDécouvrir les applications concrètes de l’IA dans notre quotidien\nExploiter l’IA générative pour créer ses premiers contenus\n\nInscription : https://www.billetweb.fr/faire-ses-premiers-pas-avec-l-ia
URL:https://isdm.umontpellier.fr/event/masterclass-faire-ses-premiers-pas-avec-lia/
END:VEVENT
END:VCALENDAR