BEGIN:VCALENDAR
VERSION:2.0
PRODID:-// - ECPv6.15.15//NONSGML v1.0//EN
CALSCALE:GREGORIAN
METHOD:PUBLISH
X-ORIGINAL-URL:https://isdm.umontpellier.fr
X-WR-CALDESC:Évènements pour 
REFRESH-INTERVAL;VALUE=DURATION:PT1H
X-Robots-Tag:noindex
X-PUBLISHED-TTL:PT1H
BEGIN:VTIMEZONE
TZID:Europe/Paris
BEGIN:DAYLIGHT
TZOFFSETFROM:+0100
TZOFFSETTO:+0200
TZNAME:CEST
DTSTART:20250330T010000
END:DAYLIGHT
BEGIN:STANDARD
TZOFFSETFROM:+0200
TZOFFSETTO:+0100
TZNAME:CET
DTSTART:20251026T010000
END:STANDARD
BEGIN:DAYLIGHT
TZOFFSETFROM:+0100
TZOFFSETTO:+0200
TZNAME:CEST
DTSTART:20260329T010000
END:DAYLIGHT
BEGIN:STANDARD
TZOFFSETFROM:+0200
TZOFFSETTO:+0100
TZNAME:CET
DTSTART:20261025T010000
END:STANDARD
BEGIN:DAYLIGHT
TZOFFSETFROM:+0100
TZOFFSETTO:+0200
TZNAME:CEST
DTSTART:20270328T010000
END:DAYLIGHT
BEGIN:STANDARD
TZOFFSETFROM:+0200
TZOFFSETTO:+0100
TZNAME:CET
DTSTART:20271031T010000
END:STANDARD
END:VTIMEZONE
BEGIN:VEVENT
DTSTART;TZID=Europe/Paris:20260521T131500
DTEND;TZID=Europe/Paris:20260521T154500
DTSTAMP:20260422T122940
CREATED:20260105T103155Z
LAST-MODIFIED:20260420T062504Z
UID:10000307-1779369300-1779378300@isdm.umontpellier.fr
SUMMARY:IA : Auto-encodeurs
DESCRIPTION:Campus Triolet de l’Université de Montpellier – Pl. Eugène Bataillon\, Bat 4\, TD4.06\nInstitut de Science des Données de Montpellier \nApprofondissez vos connaissances en Deep Learning à travers le prisme des auto-encodeurs\, une technique encore aujourd’hui mise en œuvre dans l’industrie pour la compression de données et la détection d’anomalies. \nUne première partie présentera les notions-clés et la terminologie\, suivie de l’apprentissage de représentations\, puis des différents cas d’usage. Tout au long de la formation\, nous alternerons entre théorie et mise en pratique. \nObjectifs :\n• Comprendre le fonctionnement des auto-encodeurs\n• Définir l’espace latent et son intérêt\n• Savoir ce qu’est l’apprentissage de représentations \nPrérequis :\n• Ordinateur personnel\n• La connaissance des concepts basiques du deep learning (descente de gradient\, multi-layer perceptron\, fonction de coût/perte\, …) est nécessaire\n• Connaissance basique de Python (et sa syntaxe) pour suivre le cas pratique\n• Compte Google pour un accès à Google Colab\, sauf si vous souhaitez installer le cas pratique en local \nInscription gratuite mais obligatoire \n            Inscription
URL:https://isdm.umontpellier.fr/event/ia-auto-encodeurs-4/
CATEGORIES:Formations
ATTACH;FMTTYPE=image/png:https://isdm.umontpellier.fr/wp-content/uploads/2025/06/ia_3.png
END:VEVENT
BEGIN:VEVENT
DTSTART;VALUE=DATE:20260606
DTEND;VALUE=DATE:20260607
DTSTAMP:20260422T122940
CREATED:20260420T062508Z
LAST-MODIFIED:20260420T062508Z
UID:10000345-1780704000-1780790399@isdm.umontpellier.fr
SUMMARY:Polycloud
DESCRIPTION:Campus Triolet de l’Université de Montpellier\, Polytech Montpellier\nLes étudiants DO4 Polytech Montpellier \nConférence tech autour du Cloud et du DevOps organisée par des étudiants !\nPolycloud est une journée de conférences gratuites qui tiendra sa cinquième édition le Samedi 6 juin 2026 à Polytech Montpellier. Le but est de faire découvrir le monde du cloud et du DevOps\, au travers de conférences. Grâce à l’intervention d’experts une multitude de sujets seront abordés tout au long de la journée: Dev\, Cloud\, IA\, Cybersécurité…\nContrairement aux conférences plus traditionnelles\, la Polycloud cherche à créer un pont entre le monde étudiant et le milieu professionnel. Et la formule séduit chaque année\, ils sont de plus en plus nombreux à faire le déplacement.\nL’entrée est gratuite\, repas inclus. Aucune raison de ne pas venir ! \n            Inscription\n                        En savoir plus
URL:https://isdm.umontpellier.fr/event/polycloud/
CATEGORIES:Journée
ATTACH;FMTTYPE=image/png:https://isdm.umontpellier.fr/wp-content/uploads/2025/05/logo-polycloud-8sQR9y.png
END:VEVENT
BEGIN:VEVENT
DTSTART;TZID=Europe/Paris:20260707T140000
DTEND;TZID=Europe/Paris:20260707T163000
DTSTAMP:20260422T122940
CREATED:20260105T103401Z
LAST-MODIFIED:20260105T130630Z
UID:10000315-1783432800-1783441800@isdm.umontpellier.fr
SUMMARY:IA : Introduction au Deep Learning
DESCRIPTION:Campus Triolet\, Pl. Eugène Bataillon\, Bat 5\, TD 5.209\nGino Frazzoli – Institut de Science des Données de Montpellier \nPlongez au cœur de l’intelligence artificielle avec les bases du Deep Learning. Une première partie vous apportera notions-clés et terminologie nécessaires pour comprendre et suivre le cas pratique proposé : la classification de deux espèces. \nObjectifs :\n• Définir le Deep Learning\n• Expliquer le fonctionnement des réseaux de neurones\n• S’initier sur un cas simple \nPrérequis :\n• Ordinateur personnel\n• Notions de code en Python\n• Un compte Google pour un accès à Google Colab \nInscription gratuite \n            Inscription
URL:https://isdm.umontpellier.fr/event/ia-introduction-au-deep-learning-4/
CATEGORIES:Formations
ATTACH;FMTTYPE=image/png:https://isdm.umontpellier.fr/wp-content/uploads/2025/06/ia_1.png
END:VEVENT
END:VCALENDAR