BEGIN:VCALENDAR
VERSION:2.0
PRODID:-// - ECPv6.15.15//NONSGML v1.0//EN
CALSCALE:GREGORIAN
METHOD:PUBLISH
X-ORIGINAL-URL:https://isdm.umontpellier.fr
X-WR-CALDESC:Évènements pour 
REFRESH-INTERVAL;VALUE=DURATION:PT1H
X-Robots-Tag:noindex
X-PUBLISHED-TTL:PT1H
BEGIN:VTIMEZONE
TZID:Europe/Paris
BEGIN:DAYLIGHT
TZOFFSETFROM:+0100
TZOFFSETTO:+0200
TZNAME:CEST
DTSTART:20230326T010000
END:DAYLIGHT
BEGIN:STANDARD
TZOFFSETFROM:+0200
TZOFFSETTO:+0100
TZNAME:CET
DTSTART:20231029T010000
END:STANDARD
BEGIN:DAYLIGHT
TZOFFSETFROM:+0100
TZOFFSETTO:+0200
TZNAME:CEST
DTSTART:20240331T010000
END:DAYLIGHT
BEGIN:STANDARD
TZOFFSETFROM:+0200
TZOFFSETTO:+0100
TZNAME:CET
DTSTART:20241027T010000
END:STANDARD
BEGIN:DAYLIGHT
TZOFFSETFROM:+0100
TZOFFSETTO:+0200
TZNAME:CEST
DTSTART:20250330T010000
END:DAYLIGHT
BEGIN:STANDARD
TZOFFSETFROM:+0200
TZOFFSETTO:+0100
TZNAME:CET
DTSTART:20251026T010000
END:STANDARD
END:VTIMEZONE
BEGIN:VEVENT
DTSTART;TZID=Europe/Paris:20241003T110000
DTEND;TZID=Europe/Paris:20241003T110000
DTSTAMP:20260420T030431
CREATED:20240924T073123Z
LAST-MODIFIED:20251022T073255Z
UID:10000055-1727953200-1727953200@isdm.umontpellier.fr
SUMMARY:D’une nouvelle approche en propagation virale à des prédictions en climatologie
DESCRIPTION:Alain Oustaloup\, Professeur émérite ENSEIRB-MATMECA – Bordeaux INP / Laboratoire IMS \nReconnu comme « Fait marquant 2021 du CNRS »\, le modèle FPM (Fractional Power Model) qui généralise la régression linéaire est un modèle à trois paramètres dont la puissance indique à elle seule la progression\, la stabilisation ou la régression d’une épidémie. Par sa puissance non entière\, ce modèle contribue à l’unification des phénomènes de diffusion en physique et de propagation virale en épidémiologie. Sa représentativité (des données réelles) est due à sa capacité de prendre en compte un nombre illimité de dynamiques internes de rapidité différente. Le modèle permet ainsi de représenter toutes les dynamiques internes d’une épidémie\, des plus lentes\, issues des campagnes très désertifiées\, aux plus rapides\, issues des grandes villes très densifiées. Sa prédictivité est due à sa capacité de prendre en compte tout le passé en le pondérant comme il convient. Le modèle est en effet doté d’une forme prédictive à mémoire longue qui exprime que toute valeur prédite est une fonction de toutes les valeurs passées\, valeurs qui s’avèrent favorablement pondérées selon un facteur d’oubli (qui n’est pas sans évoquer une forme subtile de mémoire). Le modèle présente ainsi l’avantage d’utiliser au mieux le passé\, d’autant que seul le passé peut être utilisé pour prédire le futur\, en fait\, une spécificité prédictive de nature à faire de ce modèle un bon prédicteur pour les décideurs. La représentativité du modèle a été validée avec les données officielles du Ministère Français de la santé sur la propagation du COVID-19\, notamment les séries temporelles des contaminations et des hospitalisations. Sa prédictivité a également été validée par des prédictions vérifiées dans des phases de confinement et de vaccination\, et même pour la vaccination elle-même.\nEnfin\, le modèle est aussi validé par des prédictions vérifiées et en sa faveur\, menées dans le domaine de la climatologie à travers l’évolution de la concentration du CO2 dans l’atmosphère et l’élévation du niveau moyen de la mer.
URL:https://isdm.umontpellier.fr/event/dune-nouvelle-approche-en-propagation-virale-a-des-predictions-en-climatologie/
LOCATION:Accueil
ATTACH;FMTTYPE=image/png:https://isdm.umontpellier.fr/wp-content/uploads/2024/09/Halles-IA-event.png
END:VEVENT
END:VCALENDAR